
BEGIN:VCALENDAR
VERSION:2.0
PRODID:-//Club de Minéralogie de la Vallée de l’Outaouais - ECPv6.15.20//NONSGML v1.0//EN
CALSCALE:GREGORIAN
METHOD:PUBLISH
X-WR-CALNAME:Club de Minéralogie de la Vallée de l’Outaouais
X-ORIGINAL-URL:https://www.ovmineralclub.ca
X-WR-CALDESC:Évènements pour Club de Minéralogie de la Vallée de l’Outaouais
REFRESH-INTERVAL;VALUE=DURATION:PT1H
X-Robots-Tag:noindex
X-PUBLISHED-TTL:PT1H
BEGIN:VTIMEZONE
TZID:America/Toronto
BEGIN:DAYLIGHT
TZOFFSETFROM:-0500
TZOFFSETTO:-0400
TZNAME:EDT
DTSTART:20250309T070000
END:DAYLIGHT
BEGIN:STANDARD
TZOFFSETFROM:-0400
TZOFFSETTO:-0500
TZNAME:EST
DTSTART:20251102T060000
END:STANDARD
BEGIN:DAYLIGHT
TZOFFSETFROM:-0500
TZOFFSETTO:-0400
TZNAME:EDT
DTSTART:20260308T070000
END:DAYLIGHT
BEGIN:STANDARD
TZOFFSETFROM:-0400
TZOFFSETTO:-0500
TZNAME:EST
DTSTART:20261101T060000
END:STANDARD
BEGIN:DAYLIGHT
TZOFFSETFROM:-0500
TZOFFSETTO:-0400
TZNAME:EDT
DTSTART:20270314T070000
END:DAYLIGHT
BEGIN:STANDARD
TZOFFSETFROM:-0400
TZOFFSETTO:-0500
TZNAME:EST
DTSTART:20271107T060000
END:STANDARD
END:VTIMEZONE
BEGIN:VEVENT
DTSTART;TZID=America/Toronto:20260312T173000
DTEND;TZID=America/Toronto:20260312T200000
DTSTAMP:20260421T020720
CREATED:20251111T160111Z
LAST-MODIFIED:20260310T144721Z
UID:5079-1773336600-1773345600@www.ovmineralclub.ca
SUMMARY:Réunion de l’OVMC de mars 2026 - Le nettoyage minéral démystifié : Conseils pratiques pour maximiser la beauté des minéraux
DESCRIPTION:17:30 Identification des minéraux et atelier d’échange \n\n\n\nClinique « Rock Doctor« : Début à 17h30\, fin à 18h00. Les membres sont libres d’apporter un nombre raisonnable d’échantillons ou de spécimens à identifier par les experts minéralogistes du club. Cette activité a été très populaire auprès des membres (dépassant parfois notre capacité à gérer toutes les personnes présentes !) \n\n\n\n« Swap Shop » : Appel à tous les collectionneurs ! Le Swap Shop de l’OVMC est ouvert à tous les membres (adultes et enfants). Mike et Tara auront plusieurs trésors à échanger\, y compris des petits cristaux\, des fossiles\, des roches polies et\, à l’occasion\, des dino en plastique !  Les dons pour la collection du Swap sont appréciés ! Les échantillons locaux et internationaux sont acceptés. Pas de gros échantillons s’il vous plaît. \n\n\n\nJoignez-vous à nous et remportez des prix de présence ! \n\n\n\n18 h 00 Réunion \n\n\n\nHommage à Doug Scott\, directeur de l’OVMC et « docteur des roches »\, récemment décédé – John Montgomery\, président de l’OVMC \n\n\n\nConférencier  : George Thompson\, collectionneur et vendeur de minéraux bien connu \n\n\n\nSujet : Le nettoyage minéral démystifié : Conseils pratiques pour maximiser la beauté des minéraux \n\n\n\nGeorge est un collectionneur de minéraux de longue date et possède l’une des meilleures collections de minéraux canadiens. Il vend des spécimens à de nombreuses expositions locales sous la bannière True North Minerals et exploite activement un site près de Bancroft\, tout en se rendant sur de nombreux sites en Nouvelle-Écosse.  \n\n\n\nGeorge partagera les « meilleures pratiques » pour le nettoyage de vos découvertes minérales\, y compris le lavage et l’élimination des taches sans endommager le spécimen. Il donnera ensuite des conseils pour tirer le meilleur parti de l’exposition de vos minéraux. \n\n\n\n\n\n\n\nNous nous réunissons au théâtre du CMN\, avec des sièges confortables et un système de sonorisation.
URL:https://www.ovmineralclub.ca/fr/event/le-nettoyage-mineral-demystifie-conseils-pratiques-pour-maximiser-la-beaute-des-mineraux/
LOCATION:Canadian Museum of Nature\, 240 MacLeod Street\, Ottawa\, Ontario\, K2P 2R1\, Canada
CATEGORIES:Réunions
END:VEVENT
END:VCALENDAR