
BEGIN:VCALENDAR
VERSION:2.0
PRODID:-//Club de Minéralogie de la Vallée de l’Outaouais - ECPv6.15.20//NONSGML v1.0//EN
CALSCALE:GREGORIAN
METHOD:PUBLISH
X-ORIGINAL-URL:https://www.ovmineralclub.ca
X-WR-CALDESC:Évènements pour Club de Minéralogie de la Vallée de l’Outaouais
REFRESH-INTERVAL;VALUE=DURATION:PT1H
X-Robots-Tag:noindex
X-PUBLISHED-TTL:PT1H
BEGIN:VTIMEZONE
TZID:America/Toronto
BEGIN:DAYLIGHT
TZOFFSETFROM:-0500
TZOFFSETTO:-0400
TZNAME:EDT
DTSTART:20240310T070000
END:DAYLIGHT
BEGIN:STANDARD
TZOFFSETFROM:-0400
TZOFFSETTO:-0500
TZNAME:EST
DTSTART:20241103T060000
END:STANDARD
BEGIN:DAYLIGHT
TZOFFSETFROM:-0500
TZOFFSETTO:-0400
TZNAME:EDT
DTSTART:20250309T070000
END:DAYLIGHT
BEGIN:STANDARD
TZOFFSETFROM:-0400
TZOFFSETTO:-0500
TZNAME:EST
DTSTART:20251102T060000
END:STANDARD
BEGIN:DAYLIGHT
TZOFFSETFROM:-0500
TZOFFSETTO:-0400
TZNAME:EDT
DTSTART:20260308T070000
END:DAYLIGHT
BEGIN:STANDARD
TZOFFSETFROM:-0400
TZOFFSETTO:-0500
TZNAME:EST
DTSTART:20261101T060000
END:STANDARD
END:VTIMEZONE
BEGIN:VEVENT
DTSTART;TZID=America/Toronto:20251211T180000
DTEND;TZID=America/Toronto:20251211T200000
DTSTAMP:20260421T061724
CREATED:20251013T194201Z
LAST-MODIFIED:20251207T220329Z
UID:4884-1765476000-1765483200@www.ovmineralclub.ca
SUMMARY:Réunion du CMVO de décembre 2025 - Diversité minérale extraordinaire au mont Saint-Hilaire\, Québec et vente aux enchères de minéraux
DESCRIPTION:Joignez-vous à nous pour les tirages au sort\, la vente aux enchères et les gâteries de Noël ! \n\n\n\n18h00 Identification des minéraux et boutique d’échange \n\n\n\nClinique « Rock Doctor« : Début à 18h00\, fin à 18h30. Les membres sont libres d’apporter un nombre raisonnable d’échantillons ou de spécimens à identifier par les experts minéralogistes du club. Cette activité a été très populaire auprès des membres (dépassant parfois notre capacité à gérer toutes les personnes présentes !) \n\n\n\n« Boutique d’échange » : Avis à tous les collectionneurs ! La boutique d’échange de l’OVMC est ouverte à tous les membres (adultes et enfants). Mike et Tara offriront de nombreux trésors à échanger\, notamment des petits cristaux\, des fossiles\, des pierres polies et\, de temps en temps\, un dinosaure en plastique ! Les dons pour la collection d’échange sont les bienvenus ! Échantillons locaux et internationaux acceptés. Pas de gros échantillons\, s’il vous plaît. \n\n\n\n18h15 Réunion \n\n\n\nConférencier : Inna Lykova\, PhD\, chercheuse au Musée canadien de la nature \n\n\n\nSujet : Extraordinaire diversité minérale au Mont Saint-Hilaire\, Québec \n\n\n\nLe mont Saint-Hilaire\, première localité minière du Canada\, abrite plus de 440 minéraux\, soit plus de 7 % de toutes les espèces connues\, sur une superficie inférieure à un kilomètre carré. Un grand nombre de ces espèces sont très rares et ne se trouvent qu’au mont Saint-Hilaire ou dans une poignée d’endroits dans le monde. Nous discuterons des forces qui sous-tendent cette étonnante diversité minérale et sa rareté. \n\n\n\n\n\n\n\nLieu et itinéraire: Musée canadien de la nature\, 240 rue McLeod\, Ottawa. Entrez par l’entrée principale et tournez à gauche\, allez jusqu’au bout du hall après la cafétéria. \n\n\n\nVente aux enchères de minéraux. Voici quelques-uns des articles mis aux enchères :
URL:https://www.ovmineralclub.ca/fr/event/diversite-minerale-extraordinaire-au-mont-saint-hilaire-quebec/
LOCATION:Musée canadien de la nature\, 240\, rue McLeod\, Ottawa\, Ontario\, K2P 2R1\, Canada
CATEGORIES:Réunions
END:VEVENT
END:VCALENDAR