
BEGIN:VCALENDAR
VERSION:2.0
PRODID:-//Club de Minéralogie de la Vallée de l’Outaouais - ECPv6.15.20//NONSGML v1.0//EN
CALSCALE:GREGORIAN
METHOD:PUBLISH
X-WR-CALNAME:Club de Minéralogie de la Vallée de l’Outaouais
X-ORIGINAL-URL:https://www.ovmineralclub.ca
X-WR-CALDESC:Évènements pour Club de Minéralogie de la Vallée de l’Outaouais
REFRESH-INTERVAL;VALUE=DURATION:PT1H
X-Robots-Tag:noindex
X-PUBLISHED-TTL:PT1H
BEGIN:VTIMEZONE
TZID:America/Toronto
BEGIN:DAYLIGHT
TZOFFSETFROM:-0500
TZOFFSETTO:-0400
TZNAME:EDT
DTSTART:20240310T070000
END:DAYLIGHT
BEGIN:STANDARD
TZOFFSETFROM:-0400
TZOFFSETTO:-0500
TZNAME:EST
DTSTART:20241103T060000
END:STANDARD
BEGIN:DAYLIGHT
TZOFFSETFROM:-0500
TZOFFSETTO:-0400
TZNAME:EDT
DTSTART:20250309T070000
END:DAYLIGHT
BEGIN:STANDARD
TZOFFSETFROM:-0400
TZOFFSETTO:-0500
TZNAME:EST
DTSTART:20251102T060000
END:STANDARD
BEGIN:DAYLIGHT
TZOFFSETFROM:-0500
TZOFFSETTO:-0400
TZNAME:EDT
DTSTART:20260308T070000
END:DAYLIGHT
BEGIN:STANDARD
TZOFFSETFROM:-0400
TZOFFSETTO:-0500
TZNAME:EST
DTSTART:20261101T060000
END:STANDARD
END:VTIMEZONE
BEGIN:VEVENT
DTSTART;TZID=America/Toronto:20250708T100000
DTEND;TZID=America/Toronto:20250708T160000
DTSTAMP:20260421T184721
CREATED:20250426T180946Z
LAST-MODIFIED:20250629T005331Z
UID:3717-1751968800-1751990400@www.ovmineralclub.ca
SUMMARY:Excursion à la mine de corindon de Craigmont
DESCRIPTION:À la fin des années 1800\, du corindon a été découvert près de Combermere et\, peu après\, la Craigmont Corundum Mine a été créée. Il s’agissait d’une grande entreprise qui employait plus de 400 hommes en 1906. \n\n\n\nJoignez-vous à notre expédition et à un expert réputé pour une expérience de collection unique et découvrez le deuxième minéral le plus dur après le diamant. Le corindon est classé 9 sur l’échelle de Mohs. Le rubis et le saphir sont en fait du corindon. \n\n\n\n\n\n\n\nLe principal minéral recherché à Craigmont est le corindon\, mais les minéraux suivants peuvent également être découverts : biotite\, magnétite\, mica\, molybdénite\, pyrite\, quartz fumé\, scapolite et autres. \n\n\n\nÀ Craigmont\, il faut prendre un sentier pas trop long. L’endroit où on ramasse sera relativement dégagé\, donc les insectes ne seront pas trop présents. C’est une immense propriété – en fait\, une montagne entière où se trouvent des terrils de mines ; cependant\, au-delà de la zone de collecte\, il y a de gros rochers et un risque de chutes ; soyez donc prudents. \n\n\n\nVoir notre article de blog pour les outils et ce qu’il faut apporter : S’équiper : Les outils indispensables pour l’amateur de roches en herbe.  Étant donné que vous voudrez peut-être briser des roches\, un marteau à manche court serait avantageux. \n\n\n\nBONUS : L’OVMC a demandé à Chris Fouts d’être notre guide. Chris est un géologue réputé de Bancroft et connaît bien la région. Il s’est déjà rendu à la mine Craigmont cette année et pourra donc aider tous les membres à trouver de bons spécimens. \n\n\n\nNous retrouverons Chris au Country Store de McArthur Mills\, sur l’autoroute 28\, à 10 h et le suivrons jusqu’à la zone de collecte de minéraux (à environ 20 minutes) ; des cartes seront fournies. La zone est située à un peu moins de 2 heures d’Ottawa. \n\n\n\nTarif : 15 $ par membre adulte. Gratuit pour les enfants.
URL:https://www.ovmineralclub.ca/fr/event/excursion-a-la-mine-de-corindon-de-craigmont/
LOCATION:Near Combermere\, ON\, Combermere\, Ontario\, Canada
CATEGORIES:Excursions sur le terrain
END:VEVENT
BEGIN:VEVENT
DTSTART;TZID=America/Toronto:20250726T100000
DTEND;TZID=America/Toronto:20250726T160000
DTSTAMP:20260421T184721
CREATED:20250426T183358Z
LAST-MODIFIED:20250615T012142Z
UID:3713-1753524000-1753545600@www.ovmineralclub.ca
SUMMARY:Visite de la propriété Miller
DESCRIPTION:La propriété Miller comprend la mine Smart\, établie vers 1880.  L’apatite était la cible principale en raison de son phosphate utilisé comme engrais. \n\n\n\n\n\n\n\nLes principaux minéraux que l’on y trouve sont l’apatite\, la fluorapatite\, la calcite\, la biotite\, le felspath microcline\, l’amazonite\, la titanite et le zircon. \n\n\n\nLe stationnement est assez proche des fouilles\, bien que les voitures basses veuillent peut-être se garer un peu plus loin.  Il peut faire assez humide après une pluie à la propriété Miller\, ce qui augmente le nombre de moustiques. Voir notre article de blog pour les outils et ce qu’il faut apporter : S’équiper : Les outils indispensables pour l’amateur de roches en herbe. \n\n\n\nLe nombre de participants est limité à 25 membres. Le nombre de places de parking étant limité\, essayons de faire du covoiturage.
URL:https://www.ovmineralclub.ca/fr/event/visite-de-la-propriete-miller-2/
LOCATION:Smart Mine Miller Property\, 705 Wittke Rd\,\, Bonnechere Valley\, ON\, K0J 1T0\, Canada
CATEGORIES:Excursions sur le terrain
END:VEVENT
BEGIN:VEVENT
DTSTART;TZID=America/Toronto:20250727T100000
DTEND;TZID=America/Toronto:20250727T160000
DTSTAMP:20260421T184721
CREATED:20250719T000543Z
LAST-MODIFIED:20250722T012316Z
UID:4453-1753610400-1753632000@www.ovmineralclub.ca
SUMMARY:Musée du Bancroft Mineral Club et exposition du club
DESCRIPTION:Le Bancroft Gem and Mineral Club organise sa propre exposition le dimanche précédant le Bancroft Rockhound Gemboree prévu du 31 juillet au 3 août 2025.  Les membres du club de Bancroft offrent une gamme complète de minéraux\, de pierres précieuses et d’autres produits.  Un certain nombre de membres de l’OVMC se rendront à Bancroft pour soutenir le Bancroft Club et pour visiter le Mineral Museum qui se trouve dans le centre-ville de Bancroft. \n\n\n\nuniquement en anglais \n\n\n\n\n\n\n\n\n\n\n\nRejoignez-nous pour une excursion d’une journée fascinante.  Note : Il est possible que nous prenions un bus si l’intérêt est suffisant.
URL:https://www.ovmineralclub.ca/fr/event/musee-du-bancroft-mineral-club-et-exposition-du-club/
LOCATION:Bancroft Mineral Museum\, 8 Hastings Heritage Way\, Bancroft\, Ontario\, Canada
CATEGORIES:Excursions sur le terrain
END:VEVENT
END:VCALENDAR