
BEGIN:VCALENDAR
VERSION:2.0
PRODID:-//Club de Minéralogie de la Vallée de l’Outaouais - ECPv6.15.20//NONSGML v1.0//EN
CALSCALE:GREGORIAN
METHOD:PUBLISH
X-WR-CALNAME:Club de Minéralogie de la Vallée de l’Outaouais
X-ORIGINAL-URL:https://www.ovmineralclub.ca
X-WR-CALDESC:Évènements pour Club de Minéralogie de la Vallée de l’Outaouais
REFRESH-INTERVAL;VALUE=DURATION:PT1H
X-Robots-Tag:noindex
X-PUBLISHED-TTL:PT1H
BEGIN:VTIMEZONE
TZID:America/Toronto
BEGIN:DAYLIGHT
TZOFFSETFROM:-0500
TZOFFSETTO:-0400
TZNAME:EDT
DTSTART:20240310T070000
END:DAYLIGHT
BEGIN:STANDARD
TZOFFSETFROM:-0400
TZOFFSETTO:-0500
TZNAME:EST
DTSTART:20241103T060000
END:STANDARD
BEGIN:DAYLIGHT
TZOFFSETFROM:-0500
TZOFFSETTO:-0400
TZNAME:EDT
DTSTART:20250309T070000
END:DAYLIGHT
BEGIN:STANDARD
TZOFFSETFROM:-0400
TZOFFSETTO:-0500
TZNAME:EST
DTSTART:20251102T060000
END:STANDARD
BEGIN:DAYLIGHT
TZOFFSETFROM:-0500
TZOFFSETTO:-0400
TZNAME:EDT
DTSTART:20260308T070000
END:DAYLIGHT
BEGIN:STANDARD
TZOFFSETFROM:-0400
TZOFFSETTO:-0500
TZNAME:EST
DTSTART:20261101T060000
END:STANDARD
END:VTIMEZONE
BEGIN:VEVENT
DTSTART;TZID=America/Toronto:20250410T173000
DTEND;TZID=America/Toronto:20250410T200000
DTSTAMP:20260421T223856
CREATED:20241128T014840Z
LAST-MODIFIED:20250220T194813Z
UID:2144-1744306200-1744315200@www.ovmineralclub.ca
SUMMARY:Réunion de l'OVMC d'avril 2025 - Soirée de recherche étudiante
DESCRIPTION:17:30 Identification des minéraux et Coin des enfants \n\n\n\nClinique « Rock Doctor » : Commence à 17h30\, se termine à 18h. Les membres sont libres d’apporter un nombre raisonnable d’échantillons ou d’échantillons à identifier par les minéralogistes experts du club. Cela a été une activité très populaire pour les membres (dépassant parfois notre capacité à traiter avec toutes les personnes présentes !). \n\n\n\n« Coin des enfants » : Nous allons maintenant avoir une table mise de côté pour que les enfants apprennent les bases de l’identification des minéraux et d’autres activités connexes. Merci à Tara Conroy d’avoir mis cela en place ! \n\n\n\n18:00 Réunion \n\n\n\nSoirée de recherche étudiante \n\n\n\nDeux membres de l’OVMC qui sont des étudiants diplômés en géologie à l’Université d’Ottawa décriront leurs études sur le terrain et les résultats de leurs recherches jusqu’à présent dans le cadre de leur maîtrise. projets de thèse. Jack Halloran étudie le gisement de type porphyre Valeriano Cu-Au dans le nord du Chili. Kelsie Ojaste travaille sur les gisements de minerai géants de Sudbury et parlera de « Comprendre le rôle des substances volatiles dans les abondants gisements de Ni-Cu-PGE de Sudbury à l’aide de la pétrographie et de la géochimie ». Venez encourager nos membres étudiants et voyez quel excellent travail les étudiants chercheurs font ces temps-ci ! \n\n\n\nLieu et itinéraire : Musée canadien de la nature\, 240 rue McLeod\, Ottawa. Entrez par l’entrée principale et tournez à gauche\, allez jusqu’au bout du hall après la cafétéria.
URL:https://www.ovmineralclub.ca/fr/event/reunion-de-lovmc-davril-2025/
LOCATION:Musée canadien de la nature\, 240\, rue McLeod\, Ottawa\, Ontario\, K2P 2R1\, Canada
CATEGORIES:Réunions
END:VEVENT
END:VCALENDAR