
BEGIN:VCALENDAR
VERSION:2.0
PRODID:-//Club de Minéralogie de la Vallée de l’Outaouais - ECPv6.15.20//NONSGML v1.0//EN
CALSCALE:GREGORIAN
METHOD:PUBLISH
X-WR-CALNAME:Club de Minéralogie de la Vallée de l’Outaouais
X-ORIGINAL-URL:https://www.ovmineralclub.ca
X-WR-CALDESC:Évènements pour Club de Minéralogie de la Vallée de l’Outaouais
REFRESH-INTERVAL;VALUE=DURATION:PT1H
X-Robots-Tag:noindex
X-PUBLISHED-TTL:PT1H
BEGIN:VTIMEZONE
TZID:America/Toronto
BEGIN:DAYLIGHT
TZOFFSETFROM:-0500
TZOFFSETTO:-0400
TZNAME:EDT
DTSTART:20240310T070000
END:DAYLIGHT
BEGIN:STANDARD
TZOFFSETFROM:-0400
TZOFFSETTO:-0500
TZNAME:EST
DTSTART:20241103T060000
END:STANDARD
BEGIN:DAYLIGHT
TZOFFSETFROM:-0500
TZOFFSETTO:-0400
TZNAME:EDT
DTSTART:20250309T070000
END:DAYLIGHT
BEGIN:STANDARD
TZOFFSETFROM:-0400
TZOFFSETTO:-0500
TZNAME:EST
DTSTART:20251102T060000
END:STANDARD
BEGIN:DAYLIGHT
TZOFFSETFROM:-0500
TZOFFSETTO:-0400
TZNAME:EDT
DTSTART:20260308T070000
END:DAYLIGHT
BEGIN:STANDARD
TZOFFSETFROM:-0400
TZOFFSETTO:-0500
TZNAME:EST
DTSTART:20261101T060000
END:STANDARD
END:VTIMEZONE
BEGIN:VEVENT
DTSTART;TZID=America/Toronto:20250320T173000
DTEND;TZID=America/Toronto:20250320T200000
DTSTAMP:20260421T235207
CREATED:20241128T014705Z
LAST-MODIFIED:20250119T022024Z
UID:2182-1742491800-1742500800@www.ovmineralclub.ca
SUMMARY:Réunion de l'OVMC de mars 2025 - L’histoire géologique du sud de l’Ontario
DESCRIPTION:17:30 Identification des minéraux \n\n\n\nClinique « Rock Doctor » : Commence à 17h30\, se termine à 18h. Les membres sont libres d’apporter un nombre raisonnable d’échantillons ou d’échantillons à identifier par les minéralogistes experts du club. Cela a été une activité très populaire pour les membres (dépassant parfois notre capacité à traiter avec toutes les personnes présentes !). \n\n\n\n18:00 Réunion \n\n\n\nConférencière : Laura Mancini\, géo.\, géologue résidente de la région du Sud\, Commission géologique de l’Ontario \n\n\n\nSujet : L’histoire géologique du sud de l’Ontario \n\n\n\nLa présentation de Laura couvrira la formation de Laurentia et de la province de Grenville à partir du Protérozoïque il y a environ 2\,5 milliards d’années jusqu’à la période quaternaire. La présentation couvrira brièvement la variété de produits minéraux qui sont extraits de 3 zones géologiques très distinctes qui sont le Paléozoïque\, la ceinture métasédimentaire centrale et la ceinture centrale de Gneiss. \n\n\n\nAprès avoir terminé une M.Sc à l’Université de Waterloo en 2011\, Laura a travaillé pour Lake Shore Gold Corp en tant que géologue d’exploration pendant huit ans sur plusieurs projets de surface et souterrains pendant une période passionnante dans l’exploration et l’exploitation aurifères. Elle a commencé à travailler avec l’équipe de la Commission géologique de l’Ontario en mars 2020\, en tant que géologue résidente régionale du sud de l’Ontario. Laura aime participer à la sensibilisation et à l’éducation en géosciences\, en particulier à l’enseignement de l’incroyable histoire géologique et de la géologie complexe du Sud de l’Ontario. \n\n\n\nLieu et itinéraire : Musée canadien de la nature\, 240 rue McLeod\, Ottawa. Entrez par l’entrée principale et tournez à gauche\, allez jusqu’au bout du hall après la cafétéria.
URL:https://www.ovmineralclub.ca/fr/event/reunion-de-lovmc-de-mars-2025/
LOCATION:Canadian Museum of Nature\, 240 MacLeod Street\, Ottawa\, Ontario\, K2P 2R1\, Canada
CATEGORIES:Réunions
END:VEVENT
END:VCALENDAR