
BEGIN:VCALENDAR
VERSION:2.0
PRODID:-//Club de Minéralogie de la Vallée de l’Outaouais - ECPv6.15.20//NONSGML v1.0//EN
CALSCALE:GREGORIAN
METHOD:PUBLISH
X-WR-CALNAME:Club de Minéralogie de la Vallée de l’Outaouais
X-ORIGINAL-URL:https://www.ovmineralclub.ca
X-WR-CALDESC:Évènements pour Club de Minéralogie de la Vallée de l’Outaouais
REFRESH-INTERVAL;VALUE=DURATION:PT1H
X-Robots-Tag:noindex
X-PUBLISHED-TTL:PT1H
BEGIN:VTIMEZONE
TZID:America/Toronto
BEGIN:DAYLIGHT
TZOFFSETFROM:-0500
TZOFFSETTO:-0400
TZNAME:EDT
DTSTART:20240310T070000
END:DAYLIGHT
BEGIN:STANDARD
TZOFFSETFROM:-0400
TZOFFSETTO:-0500
TZNAME:EST
DTSTART:20241103T060000
END:STANDARD
BEGIN:DAYLIGHT
TZOFFSETFROM:-0500
TZOFFSETTO:-0400
TZNAME:EDT
DTSTART:20250309T070000
END:DAYLIGHT
BEGIN:STANDARD
TZOFFSETFROM:-0400
TZOFFSETTO:-0500
TZNAME:EST
DTSTART:20251102T060000
END:STANDARD
BEGIN:DAYLIGHT
TZOFFSETFROM:-0500
TZOFFSETTO:-0400
TZNAME:EDT
DTSTART:20260308T070000
END:DAYLIGHT
BEGIN:STANDARD
TZOFFSETFROM:-0400
TZOFFSETTO:-0500
TZNAME:EST
DTSTART:20261101T060000
END:STANDARD
END:VTIMEZONE
BEGIN:VEVENT
DTSTART;TZID=America/Toronto:20250220T173000
DTEND;TZID=America/Toronto:20250220T200000
DTSTAMP:20260421T232353
CREATED:20241128T014335Z
LAST-MODIFIED:20250205T041141Z
UID:2148-1740072600-1740081600@www.ovmineralclub.ca
SUMMARY:Réunion de l'OVMC de février 2025 - Complexe alcalin d’Ice River – C.-B.
DESCRIPTION:Paula PiilonenLe complexe Ice RiverMinéraux\n\n\n17:30 Identification des minéraux et Coin des enfants \n\n\n\nClinique « Rock Doctor » : Commence à 17h30\, se termine à 18h. Les membres sont libres d’apporter un nombre raisonnable d’échantillons ou d’échantillons à identifier par les minéralogistes experts du club. Cela a été une activité très populaire pour les membres (dépassant parfois notre capacité à traiter avec toutes les personnes présentes !). \n\n\n\n« Coin des enfants » : Nous allons maintenant avoir une table mise de côté pour que les enfants apprennent les bases de l’identification des minéraux et d’autres activités connexes. Merci à Tara Conroy d’avoir mis cela en place ! \n\n\n\n18:00 Réunion \n\n\n\nConférencière Paula Piilonen\, chercheuse scientifique\, Département de minéralogie\, Musée canadien de la nature \n\n\n\nSujet : Le complexe alcalin d’Ice River\, sud-est de la Colombie-Britannique \n\n\n\nDétails du sujet : Le complexe alcalin d’Ice River\, à 23 km au sud de Field\, en Colombie-Britannique\, est une intrusion multiphase en forme de J composée de roches très alcalines – carbonatite\, ijolite\, syénite néphéline et de nombreuses digues post-intrusives. Il est l’hôte d’au moins 92 minéraux différents\, y compris de fins exemples de minéraux relativement rares tels que l’ancylite-(Ce)\, l’edingtonite\, la natrolite et la catapleiite\, ainsi que de la sodalite abondante. Au cours des 2 dernières années\, M. Piilonen et une équipe du Musée canadien de la nature\, en partenariat avec Chris Robak de Silver Cove Minerals\, ont entrepris des expéditions dans cette localité d’importance minéralogique afin d’étudier les pegmatites à un stade avancé dans la vallée du ruisseau Moose. Paula partagera son expérience de découverte et de collecte de minéraux à partir d’un nouveau type de pegmatite et ses découvertes en laboratoire. \n\n\n\nÀ propos de notre conférencière : Paula Piilonen est chercheuse scientifique à la Section de minéralogie du Musée canadien de la nature à Ottawa\, où elle travaille depuis 23 ans. Elle a complété une B.Sc en géologie à l’Université Laurentienne (1997)\, un doctorat en sciences de la Terre à l’Université d’Ottawa (2001) et une bourse postdoctorale à l’Université de Marne-la-Vallée (France\, 2002) avant de commencer avec le Musée en 2002. Ses travaux sont axés sur la minéralogie\, la chimie des cristaux et le comportement des éléments rares dans les systèmes alcalins\, en particulier les minéraux qui se forment lors de processus autométasomatiques ou hydrothermaux à un stade avancé. Son travail sur le terrain a traversé le monde entier\, du mont Saint-Hilaire à la Norvège\, en passant par la Thaïlande et le Cambodge\, l’île de Baffin et la Colombie-Britannique. Elle vit dans la région rurale de Dunrobin\, sur la rivière des Outaouais\, avec son mari\, Reni. Elle est une joueuse de squash passionnée\, une instructrice de Muay Thai certifiée\, aime le vélo de montagne\, le kayak et la pêche sur la rivière des Outaouais\, mais plus probablement peut être trouvé se détendre sur le pont avec une boisson pour adultes en regardant les couchers de soleil. \n\n\n\nLieu et itinéraire : Musée canadien de la nature\, 240 rue McLeod\, Ottawa. Entrez par l’entrée principale et tournez à gauche\, allez jusqu’au bout du hall après la cafétéria.
URL:https://www.ovmineralclub.ca/fr/event/reunion-de-lovmc-de-fevrier-2025/
LOCATION:Canadian Museum of Nature\, 240 MacLeod Street\, Ottawa\, Ontario\, K2P 2R1\, Canada
CATEGORIES:Réunions
END:VEVENT
END:VCALENDAR