
BEGIN:VCALENDAR
VERSION:2.0
PRODID:-//Club de Minéralogie de la Vallée de l’Outaouais - ECPv6.15.20//NONSGML v1.0//EN
CALSCALE:GREGORIAN
METHOD:PUBLISH
X-ORIGINAL-URL:https://www.ovmineralclub.ca
X-WR-CALDESC:Évènements pour Club de Minéralogie de la Vallée de l’Outaouais
REFRESH-INTERVAL;VALUE=DURATION:PT1H
X-Robots-Tag:noindex
X-PUBLISHED-TTL:PT1H
BEGIN:VTIMEZONE
TZID:America/Toronto
BEGIN:DAYLIGHT
TZOFFSETFROM:-0500
TZOFFSETTO:-0400
TZNAME:EDT
DTSTART:20250309T070000
END:DAYLIGHT
BEGIN:STANDARD
TZOFFSETFROM:-0400
TZOFFSETTO:-0500
TZNAME:EST
DTSTART:20251102T060000
END:STANDARD
BEGIN:DAYLIGHT
TZOFFSETFROM:-0500
TZOFFSETTO:-0400
TZNAME:EDT
DTSTART:20260308T070000
END:DAYLIGHT
BEGIN:STANDARD
TZOFFSETFROM:-0400
TZOFFSETTO:-0500
TZNAME:EST
DTSTART:20261101T060000
END:STANDARD
BEGIN:DAYLIGHT
TZOFFSETFROM:-0500
TZOFFSETTO:-0400
TZNAME:EDT
DTSTART:20270314T070000
END:DAYLIGHT
BEGIN:STANDARD
TZOFFSETFROM:-0400
TZOFFSETTO:-0500
TZNAME:EST
DTSTART:20271107T060000
END:STANDARD
END:VTIMEZONE
BEGIN:VEVENT
DTSTART;TZID=America/Toronto:20260409T173000
DTEND;TZID=America/Toronto:20260409T200000
DTSTAMP:20260421T020839
CREATED:20260329T002215Z
LAST-MODIFIED:20260330T013031Z
UID:5779-1775755800-1775764800@www.ovmineralclub.ca
SUMMARY:Réunion de l'OVMC - Palette de minéraux : Décoder les couleurs des minéraux
DESCRIPTION:Lieu de la réunion : Musée canadien de la nature\, dans le théâtre au sous-sol \n\n\n\n17:30 Identification des minéraux et atelier d’échange \n\n\n\nClinique « Rock Doctor » : Début à 17h30\, fin à 18h30. Les membres sont libres d’apporter un nombre raisonnable d’échantillons ou de spécimens à identifier par les experts minéralogistes du club. Cette activité a été très populaire auprès des membres (dépassant parfois notre capacité à gérer toutes les personnes présentes !) \n\n\n\n« Boutique d’échange » : Avis à tous les collectionneurs ! La boutique d’échange de l’OVMC est ouverte à tous les membres (adultes et enfants). Mike et Tara offriront de nombreux trésors à échanger\, notamment des petits cristaux\, des fossiles\, des pierres polies et\, de temps en temps\, un dinosaure en plastique ! Les dons pour la collection d’échange sont les bienvenus ! Échantillons locaux et internationaux acceptés. Pas de gros échantillons\, s’il vous plaît. \n\n\n\nRejoignez-nous et gagnez des prix de présence ! \n\n\n\n18 h 30 Réunion \n\n\n\n \n\n\n\nConférencier : Inna Lykova\, PhD\, chercheuse au Musée canadien de la nature \n\n\n\nSujet : Palette minérale : Décoder les couleurs des minéraux \n\n\n\nLa couleur est souvent la première chose que l’on remarque à propos d’un minéral. Ce sont les couleurs éclatantes qui rendent les minéraux si captivants et si recherchés. Pourtant\, il arrive que la couleur s’estompe. Dans cet exposé\, nous explorerons les origines des couleurs et des changements de couleur dans les minéraux. Nous verrons par exemple pourquoi la calcite est fluorescente dans une large gamme de couleurs (mais parfois pas du tout) et pourquoi la kunzite rose ou la fluorine peuvent devenir gris pâle ou incolores. \n\n\n\n\n\n\n\nP.S. Apportez un ou deux spécimens de votre collection !
URL:https://www.ovmineralclub.ca/fr/event/reunion-de-lovmc-palette-de-mineraux-decoder-les-couleurs-des-mineraux/
LOCATION:Musée canadien de la nature\, 240\, rue McLeod\, Ottawa\, Ontario\, K2P 2R1\, Canada
CATEGORIES:Réunions
END:VEVENT
END:VCALENDAR