
BEGIN:VCALENDAR
VERSION:2.0
PRODID:-//Club de Minéralogie de la Vallée de l’Outaouais - ECPv6.15.20//NONSGML v1.0//EN
CALSCALE:GREGORIAN
METHOD:PUBLISH
X-WR-CALNAME:Club de Minéralogie de la Vallée de l’Outaouais
X-ORIGINAL-URL:https://www.ovmineralclub.ca
X-WR-CALDESC:Évènements pour Club de Minéralogie de la Vallée de l’Outaouais
REFRESH-INTERVAL;VALUE=DURATION:PT1H
X-Robots-Tag:noindex
X-PUBLISHED-TTL:PT1H
BEGIN:VTIMEZONE
TZID:America/Toronto
BEGIN:DAYLIGHT
TZOFFSETFROM:-0500
TZOFFSETTO:-0400
TZNAME:EDT
DTSTART:20240310T070000
END:DAYLIGHT
BEGIN:STANDARD
TZOFFSETFROM:-0400
TZOFFSETTO:-0500
TZNAME:EST
DTSTART:20241103T060000
END:STANDARD
BEGIN:DAYLIGHT
TZOFFSETFROM:-0500
TZOFFSETTO:-0400
TZNAME:EDT
DTSTART:20250309T070000
END:DAYLIGHT
BEGIN:STANDARD
TZOFFSETFROM:-0400
TZOFFSETTO:-0500
TZNAME:EST
DTSTART:20251102T060000
END:STANDARD
BEGIN:DAYLIGHT
TZOFFSETFROM:-0500
TZOFFSETTO:-0400
TZNAME:EDT
DTSTART:20260308T070000
END:DAYLIGHT
BEGIN:STANDARD
TZOFFSETFROM:-0400
TZOFFSETTO:-0500
TZNAME:EST
DTSTART:20261101T060000
END:STANDARD
END:VTIMEZONE
BEGIN:VEVENT
DTSTART;TZID=America/Toronto:20251113T180000
DTEND;TZID=America/Toronto:20251113T200000
DTSTAMP:20260421T145811
CREATED:20251018T041239Z
LAST-MODIFIED:20251111T160701Z
UID:4901-1763056800-1763064000@www.ovmineralclub.ca
SUMMARY:Réunion du CMVO de novembre 2025 - Les plaisirs du micro-montage
DESCRIPTION:18h00 Identification des minéraux et boutique d’échange \n\n\n\nClinique « Rock Doctor« : Début à 18h00\, fin à 18h30. Les membres sont libres d’apporter un nombre raisonnable d’échantillons ou de spécimens à identifier par les experts minéralogistes du club. Cette activité a été très populaire auprès des membres (dépassant parfois notre capacité à gérer toutes les personnes présentes !) \n\n\n\n« Boutique d’échange » : Avis à tous les collectionneurs ! La boutique d’échange de l’OVMC est ouverte à tous les membres (adultes et enfants). Mike et Tara offriront de nombreux trésors à échanger\, notamment des petits cristaux\, des fossiles\, des pierres polies et\, de temps en temps\, un dinosaure en plastique ! Les dons pour la collection d’échange sont les bienvenus ! Échantillons locaux et internationaux acceptés. Pas de gros échantillons\, s’il vous plaît. \n\n\n\n18h30 Réunion \n\n\n\nConférencier : Quintin Wight\, micromonteur et auteur\, ARC (retraité) \n\n\n\nSujet : Les plaisirs du micro-montage \n\n\n\nLe micromontage est la facette de la collection de minéraux qui concerne la collecte\, le montage et l’étude de minéraux microscopiques au microscope. Sous le microscope\, ces micro-minéraux révèlent un monde miniature souvent incroyablement beau de cristaux aux formes délicates qui surpassent tout ce qui est possible dans des échantillons plus grands. \n\n\n\nQuintin est l’un des plus grands experts mondiaux dans ce domaine. Il a non seulement écrit le livre littéral sur le sujet\, « The Complete Book of Micromounting »\, mais il rédige également la revue annuelle des événements dans ce domaine pour le magazine Rocks and Minerals.   \n\n\n\n\n\n\n\n\n\n\n\n\n\n\n\n\n\n \n\n\n\nLieu et itinéraire: Musée canadien de la nature\, 240 rue McLeod\, Ottawa. Entrez par l’entrée principale et tournez à gauche\, allez jusqu’au bout du hall après la cafétéria.
URL:https://www.ovmineralclub.ca/fr/event/reunion-de-lovmc-de-novembre-2025-les-plaisirs-du-micro-montage/
LOCATION:Musée canadien de la nature\, 240\, rue McLeod\, Ottawa\, Ontario\, K2P 2R1\, Canada
CATEGORIES:Réunions
END:VEVENT
END:VCALENDAR