
BEGIN:VCALENDAR
VERSION:2.0
PRODID:-//Ottawa Valley Mineral Club - ECPv6.15.20//NONSGML v1.0//EN
CALSCALE:GREGORIAN
METHOD:PUBLISH
X-ORIGINAL-URL:https://www.ovmineralclub.ca
X-WR-CALDESC:Events for Ottawa Valley Mineral Club
REFRESH-INTERVAL;VALUE=DURATION:PT1H
X-Robots-Tag:noindex
X-PUBLISHED-TTL:PT1H
BEGIN:VTIMEZONE
TZID:America/Toronto
BEGIN:DAYLIGHT
TZOFFSETFROM:-0500
TZOFFSETTO:-0400
TZNAME:EDT
DTSTART:20240310T070000
END:DAYLIGHT
BEGIN:STANDARD
TZOFFSETFROM:-0400
TZOFFSETTO:-0500
TZNAME:EST
DTSTART:20241103T060000
END:STANDARD
BEGIN:DAYLIGHT
TZOFFSETFROM:-0500
TZOFFSETTO:-0400
TZNAME:EDT
DTSTART:20250309T070000
END:DAYLIGHT
BEGIN:STANDARD
TZOFFSETFROM:-0400
TZOFFSETTO:-0500
TZNAME:EST
DTSTART:20251102T060000
END:STANDARD
BEGIN:DAYLIGHT
TZOFFSETFROM:-0500
TZOFFSETTO:-0400
TZNAME:EDT
DTSTART:20260308T070000
END:DAYLIGHT
BEGIN:STANDARD
TZOFFSETFROM:-0400
TZOFFSETTO:-0500
TZNAME:EST
DTSTART:20261101T060000
END:STANDARD
END:VTIMEZONE
BEGIN:VEVENT
DTSTART;TZID=America/Toronto:20250820T100000
DTEND;TZID=America/Toronto:20250820T160000
DTSTAMP:20260421T161311
CREATED:20250426T190811Z
LAST-MODIFIED:20250804T191624Z
UID:3692-1755684000-1755705600@www.ovmineralclub.ca
SUMMARY:Amherst Island Fossil Field Trip
DESCRIPTION:Note change in date from Aug 6 to Aug 20 (necessary for insurance purposes) \n\n\n\nAmherst Island is located just south of Kingston. We will meet at the Ferry at 10:00 am. After a short ferry ride at 10:30 am\, we plan to visit two fossil locations: 11:00 am at Topsy Farms and in the afternoon at the far south-east end of island near the bird sanctuary. \n\n\n\nEnjoy the unique Irish dry stone walls along the drive. \n\n\n\nOther activities available are: \n\n\n\n\nBeautiful sandy beach:  Back Beach Park and Sand Beach Wetlands Conservation Area\n\n\n\nNeilson Store Museum\n\n\n\nOwl Woods\n\n\n\nKingston Field Naturalists Bird Sanctuary\n\n\n\nIn Stella:  General Store\, Back Kitchen Restaurant\n\n\n\nTopsy Farms: meet the animals\, view their products\n\n\n\n\n\n\n\n\nFossils include crinoids\, brachiopods\, bryozoan\, snails\, corals\, trilobites about 400 million years old. It is a short walk from parking areas.
URL:https://www.ovmineralclub.ca/event/amherst-island-fossil-field-trip/
LOCATION:Amherst Island\, Amhesrt Island\, Ontario\, Canada
CATEGORIES:Field Trips
END:VEVENT
END:VCALENDAR