
BEGIN:VCALENDAR
VERSION:2.0
PRODID:-//Ottawa Valley Mineral Club - ECPv6.15.20//NONSGML v1.0//EN
CALSCALE:GREGORIAN
METHOD:PUBLISH
X-ORIGINAL-URL:https://www.ovmineralclub.ca
X-WR-CALDESC:Events for Ottawa Valley Mineral Club
REFRESH-INTERVAL;VALUE=DURATION:PT1H
X-Robots-Tag:noindex
X-PUBLISHED-TTL:PT1H
BEGIN:VTIMEZONE
TZID:America/Toronto
BEGIN:DAYLIGHT
TZOFFSETFROM:-0500
TZOFFSETTO:-0400
TZNAME:EDT
DTSTART:20240310T070000
END:DAYLIGHT
BEGIN:STANDARD
TZOFFSETFROM:-0400
TZOFFSETTO:-0500
TZNAME:EST
DTSTART:20241103T060000
END:STANDARD
BEGIN:DAYLIGHT
TZOFFSETFROM:-0500
TZOFFSETTO:-0400
TZNAME:EDT
DTSTART:20250309T070000
END:DAYLIGHT
BEGIN:STANDARD
TZOFFSETFROM:-0400
TZOFFSETTO:-0500
TZNAME:EST
DTSTART:20251102T060000
END:STANDARD
BEGIN:DAYLIGHT
TZOFFSETFROM:-0500
TZOFFSETTO:-0400
TZNAME:EDT
DTSTART:20260308T070000
END:DAYLIGHT
BEGIN:STANDARD
TZOFFSETFROM:-0400
TZOFFSETTO:-0500
TZNAME:EST
DTSTART:20261101T060000
END:STANDARD
END:VTIMEZONE
BEGIN:VEVENT
DTSTART;TZID=America/Toronto:20250410T173000
DTEND;TZID=America/Toronto:20250410T200000
DTSTAMP:20260421T235318
CREATED:20241128T014840Z
LAST-MODIFIED:20250220T193750Z
UID:1297-1744306200-1744315200@www.ovmineralclub.ca
SUMMARY:OVMC April 2025 Meeting - Student Research Night
DESCRIPTION:5:30 PM Mineral Identification and Kids Corner \n\n\n\n“Rock Doctor” Clinic: Starts at 5:30\, ends at 6 PM. Members are free to bring in a reasonable number of samples or specimens to be identified by the expert mineralogists in the club. This has been a very popular activity for the membership (at times exceeding our capacity to deal with everyone present!). \n\n\n\n“Kids Corner”: We will now be having a table set aside for children to learn the basics of mineral identification and other related activities. Thank you to Tara Conroy for setting this up! \n\n\n\n6:00 PM Meeting \n\n\n\nStudent Research Night \n\n\n\nTwo OVMC members who are graduate students in geology at the University of Ottawa will describe their field studies and research results so far on their M.Sc. thesis projects. Jack Halloran is studying the Valeriano Cu-Au porphyry-type deposit in northern Chile. Kelsie Ojaste is working on the giant ore deposits in Sudbury and will talk about “Understanding the role of volatiles in Sudbury’s abundant Ni-Cu-PGE deposits using petrography and geochemistry”. Come out and support our student members and see what great work student researchers are doing these days! \n\n\n\nLocation and Directions: Canadian Museum of Nature\, 240 McLeod St.\, Ottawa. Enter through the main entrance and turn left\, go to the end of the hall past the cafeteria
URL:https://www.ovmineralclub.ca/event/ovmc-april-2025-meeting/
LOCATION:Musée canadien de la nature\, 240\, rue McLeod\, Ottawa\, Ontario\, K2P 2R1\, Canada
CATEGORIES:Meetings
END:VEVENT
END:VCALENDAR