
BEGIN:VCALENDAR
VERSION:2.0
PRODID:-//Ottawa Valley Mineral Club - ECPv6.15.20//NONSGML v1.0//EN
CALSCALE:GREGORIAN
METHOD:PUBLISH
X-WR-CALNAME:Ottawa Valley Mineral Club
X-ORIGINAL-URL:https://www.ovmineralclub.ca
X-WR-CALDESC:Events for Ottawa Valley Mineral Club
REFRESH-INTERVAL;VALUE=DURATION:PT1H
X-Robots-Tag:noindex
X-PUBLISHED-TTL:PT1H
BEGIN:VTIMEZONE
TZID:America/Toronto
BEGIN:DAYLIGHT
TZOFFSETFROM:-0500
TZOFFSETTO:-0400
TZNAME:EDT
DTSTART:20240310T070000
END:DAYLIGHT
BEGIN:STANDARD
TZOFFSETFROM:-0400
TZOFFSETTO:-0500
TZNAME:EST
DTSTART:20241103T060000
END:STANDARD
BEGIN:DAYLIGHT
TZOFFSETFROM:-0500
TZOFFSETTO:-0400
TZNAME:EDT
DTSTART:20250309T070000
END:DAYLIGHT
BEGIN:STANDARD
TZOFFSETFROM:-0400
TZOFFSETTO:-0500
TZNAME:EST
DTSTART:20251102T060000
END:STANDARD
BEGIN:DAYLIGHT
TZOFFSETFROM:-0500
TZOFFSETTO:-0400
TZNAME:EDT
DTSTART:20260308T070000
END:DAYLIGHT
BEGIN:STANDARD
TZOFFSETFROM:-0400
TZOFFSETTO:-0500
TZNAME:EST
DTSTART:20261101T060000
END:STANDARD
END:VTIMEZONE
BEGIN:VEVENT
DTSTART;TZID=America/Toronto:20251025T160000
DTEND;TZID=America/Toronto:20251025T200000
DTSTAMP:20260421T143745
CREATED:20250719T024453Z
LAST-MODIFIED:20251013T161512Z
UID:4438-1761408000-1761422400@www.ovmineralclub.ca
SUMMARY:Long Lake Zinc Mine Field Trip #2 (Evening)
DESCRIPTION:The Long Lake Zinc Mine (Sometimes called the Richardson Mine) started in 1897 with a number of mining operations in the early and mid 1900s focusing on zinc and lead ores. \n\n\n\n\n\n\n\nMinerals that can be found in the mine dumps (as shown above) are: aragonite\, calcite\, chondrodite\, diopside\, dolomite\, hydrozincite\, smithsonite\, galena\, chalcopyrite\, molybdenite\, pyrite\, pyrrhotite\, quartz\, sphalerite and ‘garnet group’    (Italics: fluorescent minerals). \n\n\n\n\n\n\n\nWe will have dark boxes to view fluorescent minerals but since night comes early in late October\, we expect to see the many fluorescent minerals glowing over the whole area. \n\n\n\nParking is very close to the site. \n\n\n\nSee our Blog Article for tools and what to bring: Gearing Up: Must-Have Tools for the Aspiring Rockhound.  Bring UV lights – longwave 365nm and if owned\, shortwave 264nm. \n\n\n\n$20.00 – $40.00 The owner has decided to charge $20/person + $20/bucket collected
URL:https://www.ovmineralclub.ca/event/long-lake-zinc-mine-field-trip-2-evening/
LOCATION:NW of Parham\, ON\, Parham\, Ontario\, Canada
CATEGORIES:Field Trips
END:VEVENT
END:VCALENDAR