
BEGIN:VCALENDAR
VERSION:2.0
PRODID:-//Ottawa Valley Mineral Club - ECPv6.15.20//NONSGML v1.0//EN
CALSCALE:GREGORIAN
METHOD:PUBLISH
X-WR-CALNAME:Ottawa Valley Mineral Club
X-ORIGINAL-URL:https://www.ovmineralclub.ca
X-WR-CALDESC:Events for Ottawa Valley Mineral Club
REFRESH-INTERVAL;VALUE=DURATION:PT1H
X-Robots-Tag:noindex
X-PUBLISHED-TTL:PT1H
BEGIN:VTIMEZONE
TZID:America/Toronto
BEGIN:DAYLIGHT
TZOFFSETFROM:-0500
TZOFFSETTO:-0400
TZNAME:EDT
DTSTART:20240310T070000
END:DAYLIGHT
BEGIN:STANDARD
TZOFFSETFROM:-0400
TZOFFSETTO:-0500
TZNAME:EST
DTSTART:20241103T060000
END:STANDARD
BEGIN:DAYLIGHT
TZOFFSETFROM:-0500
TZOFFSETTO:-0400
TZNAME:EDT
DTSTART:20250309T070000
END:DAYLIGHT
BEGIN:STANDARD
TZOFFSETFROM:-0400
TZOFFSETTO:-0500
TZNAME:EST
DTSTART:20251102T060000
END:STANDARD
BEGIN:DAYLIGHT
TZOFFSETFROM:-0500
TZOFFSETTO:-0400
TZNAME:EDT
DTSTART:20260308T070000
END:DAYLIGHT
BEGIN:STANDARD
TZOFFSETFROM:-0400
TZOFFSETTO:-0500
TZNAME:EST
DTSTART:20261101T060000
END:STANDARD
END:VTIMEZONE
BEGIN:VEVENT
DTSTART;TZID=America/Toronto:20251008T100000
DTEND;TZID=America/Toronto:20251008T160000
DTSTAMP:20260421T143713
CREATED:20250719T023605Z
LAST-MODIFIED:20250719T023739Z
UID:4431-1759917600-1759939200@www.ovmineralclub.ca
SUMMARY:Beryl Pit Field Trip #2
DESCRIPTION:The Beryl Pit is an open pit with a large field of mine dump material that has been bulldozed for easier finding. Originally\, beryl was discovered in 1897 then the mine opened in the 1920s. \n\n\n\n\n\n\n\nThere are a variety of minerals that can be found here including beryl\, pyrite\, columbite\, euxenite\, tourmaline\, fluorite\, various quartz\, aquamarine\, mica\, feldspar including albite peristerite (moonstone)\, allanite and many more. Most of these were formed in a granite pegmatite about 1.2 billion years ago up to 20 km deep under the Grenville mountains which have all eroded away. \n\n\n\nWe will meet at the Quadeville Grocery Store at 10:00 am and then proceed by car to the Beryl Pit parking area. There is a 0.75 km walk to the collecting area which is fairly open. Bring lunch\, water and mosquito repellant. There are no washrooms at the Pit but Quadeville does have a public washrooms. \n\n\n\nThere are two collecting approaches: \n\n\n\n\nEasy: Digging and raking through the mine dumps which is mainly loose soil mixed with minerals\n\n\n\nChallenging: Using a sledge or chisels to break open big rocks to find fresh mineral specimens.\n\n\n\n\nSee our Blog Article for tools and what to bring: Gearing Up: Must-Have Tools for the Aspiring Rockhound \n\n\n\nThe owners of the Beryl Pit charge the following fees which we will collect at the Quadeville store: \n\n\n\n\nAdult – $20.00\n\n\n\nStudent – $15.00\n\n\n\nChildren under 6 – Free
URL:https://www.ovmineralclub.ca/event/beryl-pit-field-trip-2/
LOCATION:Quadeville – meet at Kauffeldt’s Grocery Store\, Quadevilles\, Ontario\, Canada
CATEGORIES:Field Trips
END:VEVENT
END:VCALENDAR