
BEGIN:VCALENDAR
VERSION:2.0
PRODID:-//Ottawa Valley Mineral Club - ECPv6.15.20//NONSGML v1.0//EN
CALSCALE:GREGORIAN
METHOD:PUBLISH
X-WR-CALNAME:Ottawa Valley Mineral Club
X-ORIGINAL-URL:https://www.ovmineralclub.ca
X-WR-CALDESC:Events for Ottawa Valley Mineral Club
REFRESH-INTERVAL;VALUE=DURATION:PT1H
X-Robots-Tag:noindex
X-PUBLISHED-TTL:PT1H
BEGIN:VTIMEZONE
TZID:America/Toronto
BEGIN:DAYLIGHT
TZOFFSETFROM:-0500
TZOFFSETTO:-0400
TZNAME:EDT
DTSTART:20240310T070000
END:DAYLIGHT
BEGIN:STANDARD
TZOFFSETFROM:-0400
TZOFFSETTO:-0500
TZNAME:EST
DTSTART:20241103T060000
END:STANDARD
BEGIN:DAYLIGHT
TZOFFSETFROM:-0500
TZOFFSETTO:-0400
TZNAME:EDT
DTSTART:20250309T070000
END:DAYLIGHT
BEGIN:STANDARD
TZOFFSETFROM:-0400
TZOFFSETTO:-0500
TZNAME:EST
DTSTART:20251102T060000
END:STANDARD
BEGIN:DAYLIGHT
TZOFFSETFROM:-0500
TZOFFSETTO:-0400
TZNAME:EDT
DTSTART:20260308T070000
END:DAYLIGHT
BEGIN:STANDARD
TZOFFSETFROM:-0400
TZOFFSETTO:-0500
TZNAME:EST
DTSTART:20261101T060000
END:STANDARD
END:VTIMEZONE
BEGIN:VEVENT
DTSTART;TZID=America/Toronto:20250911T173000
DTEND;TZID=America/Toronto:20250911T200000
DTSTAMP:20260421T161321
CREATED:20250811T093015Z
LAST-MODIFIED:20250818T201033Z
UID:4619-1757611800-1757620800@www.ovmineralclub.ca
SUMMARY:OVMC September 2025 Meeting - The Fabulous World of Fluorescent Minerals
DESCRIPTION:5:30 PM Mineral Identification and Kids Corner \n\n\n\n“Rock Doctor” Clinic: Starts at 5:30\, ends at 6 PM. Members are free to bring in a reasonable number of samples or specimens to be identified by the expert mineralogists in the club. This has been a very popular activity for the membership (at times exceeding our capacity to deal with everyone present!). \n\n\n\n“Kids Corner”: We will now be having a table set aside for children to learn the basics of mineral identification and other related activities. Thank you to Tara Conroy for setting this up! \n\n\n\n6:00 PM Meeting \n\n\n\nSpeaker: Bob Boisvert\, Fluorescent Minerals Expert \n\n\n\nTopic: The Fabulous World of Fluorescent Minerals \n\n\n\nBob is an expert in the field of fluorescent minerals and will share his knowledge through a newly updated presentation as well as hands-on demonstrations of various minerals and the different wavelengths of UV light.  Our local geological region:  Grenville Province is rich in minerals that fluoresce. \n\n\n\n\n\n\n\nJoin us as we explore the wonders of fluorescence in minerals. \n\n\n\nLocation and Directions: Canadian Museum of Nature\, 240 McLeod St.\, Ottawa. Enter through the main entrance and turn left\, go to the end of the hall past the cafeteria
URL:https://www.ovmineralclub.ca/event/the-fabulous-world-of-fluorescent-minerals/
LOCATION:Canadian Museum of Nature\, 240 MacLeod Street\, Ottawa\, Ontario\, K2P 2R1\, Canada
CATEGORIES:Meetings
END:VEVENT
END:VCALENDAR