
BEGIN:VCALENDAR
VERSION:2.0
PRODID:-//Ottawa Valley Mineral Club - ECPv6.15.20//NONSGML v1.0//EN
CALSCALE:GREGORIAN
METHOD:PUBLISH
X-WR-CALNAME:Ottawa Valley Mineral Club
X-ORIGINAL-URL:https://www.ovmineralclub.ca
X-WR-CALDESC:Events for Ottawa Valley Mineral Club
REFRESH-INTERVAL;VALUE=DURATION:PT1H
X-Robots-Tag:noindex
X-PUBLISHED-TTL:PT1H
BEGIN:VTIMEZONE
TZID:America/Toronto
BEGIN:DAYLIGHT
TZOFFSETFROM:-0500
TZOFFSETTO:-0400
TZNAME:EDT
DTSTART:20240310T070000
END:DAYLIGHT
BEGIN:STANDARD
TZOFFSETFROM:-0400
TZOFFSETTO:-0500
TZNAME:EST
DTSTART:20241103T060000
END:STANDARD
BEGIN:DAYLIGHT
TZOFFSETFROM:-0500
TZOFFSETTO:-0400
TZNAME:EDT
DTSTART:20250309T070000
END:DAYLIGHT
BEGIN:STANDARD
TZOFFSETFROM:-0400
TZOFFSETTO:-0500
TZNAME:EST
DTSTART:20251102T060000
END:STANDARD
BEGIN:DAYLIGHT
TZOFFSETFROM:-0500
TZOFFSETTO:-0400
TZNAME:EDT
DTSTART:20260308T070000
END:DAYLIGHT
BEGIN:STANDARD
TZOFFSETFROM:-0400
TZOFFSETTO:-0500
TZNAME:EST
DTSTART:20261101T060000
END:STANDARD
END:VTIMEZONE
BEGIN:VEVENT
DTSTART;TZID=America/Toronto:20250320T173000
DTEND;TZID=America/Toronto:20250320T200000
DTSTAMP:20260422T022048
CREATED:20241128T014705Z
LAST-MODIFIED:20250303T030104Z
UID:1295-1742491800-1742500800@www.ovmineralclub.ca
SUMMARY:OVMC March 2025 Meeting - The Geological History of Southern Ontario
DESCRIPTION:5:30 PM Mineral Identification \n\n\n\n“Rock Doctor” Clinic: Starts at 5:30\, ends at 6 PM. Members are free to bring in a reasonable number of samples or specimens to be identified by the expert mineralogists in the club. This has been a very popular activity for the membership (at times exceeding our capacity to deal with everyone present!). \n\n\n\n6:00 PM Meeting \n\n\n\nSpeaker: Laura Mancini\, P.Geo\, Southern Regional Resident Geologist\, Ontario Geological Survey \n\n\n\nTopic: The Geological History of Southern Ontario \n\n\n\nLaura’s presentation will cover the formation of Laurentia and the Grenville Province starting in the Proterozoic around 2.5 billion years ago through the Quaternary Period. The presentation will briefly cover the variety of mineral products that are mined from 3 very distinct geological areas which are the Paleozoic\, Central Metasedimentary Belt\, and the Central Gneiss Belt.  \n\n\n\nUpon completing an M.Sc. at the University of Waterloo in 2011\, Laura worked for Lake Shore Gold Corp as an Exploration Geologist for eight years on several surface and underground projects during an exciting time in gold exploration and mining. She began working with the Ontario Geological Survey Team in March 2020\, as southern Ontario’s Regional Resident Geologist. Laura enjoys participating in geoscience outreach and education\, particularly teaching about the amazing geological history and complex geology of Southern Ontario. \n\n\n\n\n\n\n\nLocation and Directions: Canadian Museum of Nature\, 240 McLeod St.\, Ottawa. Enter through the main entrance and turn left\, go to the end of the hall past the cafeteria
URL:https://www.ovmineralclub.ca/event/ovmc-march-2025-meeting/
LOCATION:Canadian Museum of Nature\, 240 MacLeod Street\, Ottawa\, Ontario\, K2P 2R1\, Canada
CATEGORIES:Meetings
END:VEVENT
END:VCALENDAR